BEGIN:VCALENDAR
VERSION:2.0
PRODID:-//CAL PLONGÉE - ECPv6.15.20//NONSGML v1.0//EN
CALSCALE:GREGORIAN
METHOD:PUBLISH
X-WR-CALNAME:CAL PLONGÉE
X-ORIGINAL-URL:https://www.calplongee.fr
X-WR-CALDESC:Évènements pour CAL PLONGÉE
REFRESH-INTERVAL;VALUE=DURATION:PT1H
X-Robots-Tag:noindex
X-PUBLISHED-TTL:PT1H
BEGIN:VTIMEZONE
TZID:Europe/Paris
BEGIN:DAYLIGHT
TZOFFSETFROM:+0100
TZOFFSETTO:+0200
TZNAME:CEST
DTSTART:20250330T010000
END:DAYLIGHT
BEGIN:STANDARD
TZOFFSETFROM:+0200
TZOFFSETTO:+0100
TZNAME:CET
DTSTART:20251026T010000
END:STANDARD
BEGIN:DAYLIGHT
TZOFFSETFROM:+0100
TZOFFSETTO:+0200
TZNAME:CEST
DTSTART:20260329T010000
END:DAYLIGHT
BEGIN:STANDARD
TZOFFSETFROM:+0200
TZOFFSETTO:+0100
TZNAME:CET
DTSTART:20261025T010000
END:STANDARD
BEGIN:DAYLIGHT
TZOFFSETFROM:+0100
TZOFFSETTO:+0200
TZNAME:CEST
DTSTART:20270328T010000
END:DAYLIGHT
BEGIN:STANDARD
TZOFFSETFROM:+0200
TZOFFSETTO:+0100
TZNAME:CET
DTSTART:20271031T010000
END:STANDARD
END:VTIMEZONE
BEGIN:VEVENT
DTSTART;TZID=Europe/Paris:20260110T100000
DTEND;TZID=Europe/Paris:20260110T110000
DTSTAMP:20260424T224650
CREATED:20250721T211655Z
LAST-MODIFIED:20250721T211655Z
UID:3840-1768039200-1768042800@www.calplongee.fr
SUMMARY:Sortie Club - Fosse à Antony
DESCRIPTION:Informations auprès de vos encadrants\, inscription exclusivement sur VP Dive (cf. communication interne au CALP)
URL:https://www.calplongee.fr/event/sortie-club-fosse-a-antony-4/
LOCATION:Centre aquatique Pajeaud\, 104\, rue Adolphe Pajeaud\, ANTONY\, 92160
END:VEVENT
END:VCALENDAR