BEGIN:VCALENDAR
VERSION:2.0
PRODID:-//CAL PLONGÉE - ECPv6.15.20//NONSGML v1.0//EN
CALSCALE:GREGORIAN
METHOD:PUBLISH
X-WR-CALNAME:CAL PLONGÉE
X-ORIGINAL-URL:https://www.calplongee.fr
X-WR-CALDESC:Évènements pour CAL PLONGÉE
REFRESH-INTERVAL;VALUE=DURATION:PT1H
X-Robots-Tag:noindex
X-PUBLISHED-TTL:PT1H
BEGIN:VTIMEZONE
TZID:Europe/Paris
BEGIN:DAYLIGHT
TZOFFSETFROM:+0100
TZOFFSETTO:+0200
TZNAME:CEST
DTSTART:20240331T010000
END:DAYLIGHT
BEGIN:STANDARD
TZOFFSETFROM:+0200
TZOFFSETTO:+0100
TZNAME:CET
DTSTART:20241027T010000
END:STANDARD
BEGIN:DAYLIGHT
TZOFFSETFROM:+0100
TZOFFSETTO:+0200
TZNAME:CEST
DTSTART:20250330T010000
END:DAYLIGHT
BEGIN:STANDARD
TZOFFSETFROM:+0200
TZOFFSETTO:+0100
TZNAME:CET
DTSTART:20251026T010000
END:STANDARD
BEGIN:DAYLIGHT
TZOFFSETFROM:+0100
TZOFFSETTO:+0200
TZNAME:CEST
DTSTART:20260329T010000
END:DAYLIGHT
BEGIN:STANDARD
TZOFFSETFROM:+0200
TZOFFSETTO:+0100
TZNAME:CET
DTSTART:20261025T010000
END:STANDARD
END:VTIMEZONE
BEGIN:VEVENT
DTSTART;VALUE=DATE:20251108
DTEND;VALUE=DATE:20251116
DTSTAMP:20260425T005650
CREATED:20251213T112458Z
LAST-MODIFIED:20251213T112555Z
UID:4115-1762560000-1763251199@www.calplongee.fr
SUMMARY:Voyage Safaga Nov. 2025
DESCRIPTION:Rien de mieux qu’une semaine de soleil au mois de Novembre…\nFuire la grisaille ! c’est ce que 10 Calpiens\, on fait lors d’un voyage destination le pays des pyramides pour une semaine de plongée en Mer Rouge.\nAccueilli par Dune Safaga\, ils ont pu découvrir ou rédécouvrir les somptieux fonds marins égyptiens.\nAu rythme des bubulles et des bonnes rigolades\, les 10 voyageurs sont revenus avec des souvenirs inoubliables.\nToutefois une question est resté sans réponse ! Mais qui est Ousama ? \n 
URL:https://www.calplongee.fr/event/voyage-safaga-nov-2025/
CATEGORIES:Actualités
ATTACH;FMTTYPE=image/png:https://www.calplongee.fr/wp-content/uploads/2025/12/montage_photo_safaga-scaled.png
END:VEVENT
END:VCALENDAR