BEGIN:VCALENDAR
VERSION:2.0
PRODID:-//CAL PLONGÉE - ECPv6.15.20//NONSGML v1.0//EN
CALSCALE:GREGORIAN
METHOD:PUBLISH
X-ORIGINAL-URL:https://www.calplongee.fr
X-WR-CALDESC:Évènements pour CAL PLONGÉE
REFRESH-INTERVAL;VALUE=DURATION:PT1H
X-Robots-Tag:noindex
X-PUBLISHED-TTL:PT1H
BEGIN:VTIMEZONE
TZID:Europe/Paris
BEGIN:DAYLIGHT
TZOFFSETFROM:+0100
TZOFFSETTO:+0200
TZNAME:CEST
DTSTART:20240331T010000
END:DAYLIGHT
BEGIN:STANDARD
TZOFFSETFROM:+0200
TZOFFSETTO:+0100
TZNAME:CET
DTSTART:20241027T010000
END:STANDARD
BEGIN:DAYLIGHT
TZOFFSETFROM:+0100
TZOFFSETTO:+0200
TZNAME:CEST
DTSTART:20250330T010000
END:DAYLIGHT
BEGIN:STANDARD
TZOFFSETFROM:+0200
TZOFFSETTO:+0100
TZNAME:CET
DTSTART:20251026T010000
END:STANDARD
BEGIN:DAYLIGHT
TZOFFSETFROM:+0100
TZOFFSETTO:+0200
TZNAME:CEST
DTSTART:20260329T010000
END:DAYLIGHT
BEGIN:STANDARD
TZOFFSETFROM:+0200
TZOFFSETTO:+0100
TZNAME:CET
DTSTART:20261025T010000
END:STANDARD
END:VTIMEZONE
BEGIN:VEVENT
DTSTART;TZID=Europe/Paris:20250921T150000
DTEND;TZID=Europe/Paris:20250921T170000
DTSTAMP:20260425T033346
CREATED:20250721T205838Z
LAST-MODIFIED:20250921T191233Z
UID:3826-1758466800-1758474000@www.calplongee.fr
SUMMARY:Opération Nettoyage - Clean Up Day
DESCRIPTION: \n\n \nOpération Nettoyage de 2 heures\, tout public.\n \nParticipons collectivement à la journée mondiale du nettoyage de la planète en nettoyant un quartier de L’Haÿ-les-Roses. \n\nAction proposée par le CALP pour une terre et des océans plus propres !\n \n\nhttps://app.worldcleanupday.fr/trash-event/4313\n \nDimanche 21 septembre 2025\nRDV sur le parking de la sous-préfecture \, face à la Roseraie\, à 14h45\, pour un départ à 15h vers le centre ville ou ses proches alentours.\n \n➡️ Si possible\, venir avec une grande bouteille en plastique vide de 1\,5l par personne pour le ramassage des mégots.\n \nPrévoir également une tenue adaptée à la météo\, des gants (type jardinage) pour ramasser les mégots\, canettes\, plastiques… Quelques paires de gants de jardinage en dépannage et des sacs poubelle seront fournis pour le tri.\n \nMerci à tous pour votre participation !\n\n 
URL:https://www.calplongee.fr/event/operation-clean-up-day/
ORGANIZER;CN="Cat":MAILTO:4inetorres@gmail.com
END:VEVENT
END:VCALENDAR