BEGIN:VCALENDAR
VERSION:2.0
PRODID:-//CAL PLONGÉE - ECPv6.15.20//NONSGML v1.0//EN
CALSCALE:GREGORIAN
METHOD:PUBLISH
X-WR-CALNAME:CAL PLONGÉE
X-ORIGINAL-URL:https://www.calplongee.fr
X-WR-CALDESC:Évènements pour CAL PLONGÉE
REFRESH-INTERVAL;VALUE=DURATION:PT1H
X-Robots-Tag:noindex
X-PUBLISHED-TTL:PT1H
BEGIN:VTIMEZONE
TZID:Europe/Paris
BEGIN:DAYLIGHT
TZOFFSETFROM:+0100
TZOFFSETTO:+0200
TZNAME:CEST
DTSTART:20240331T010000
END:DAYLIGHT
BEGIN:STANDARD
TZOFFSETFROM:+0200
TZOFFSETTO:+0100
TZNAME:CET
DTSTART:20241027T010000
END:STANDARD
BEGIN:DAYLIGHT
TZOFFSETFROM:+0100
TZOFFSETTO:+0200
TZNAME:CEST
DTSTART:20250330T010000
END:DAYLIGHT
BEGIN:STANDARD
TZOFFSETFROM:+0200
TZOFFSETTO:+0100
TZNAME:CET
DTSTART:20251026T010000
END:STANDARD
BEGIN:DAYLIGHT
TZOFFSETFROM:+0100
TZOFFSETTO:+0200
TZNAME:CEST
DTSTART:20260329T010000
END:DAYLIGHT
BEGIN:STANDARD
TZOFFSETFROM:+0200
TZOFFSETTO:+0100
TZNAME:CET
DTSTART:20261025T010000
END:STANDARD
END:VTIMEZONE
BEGIN:VEVENT
DTSTART;VALUE=DATE:20250912
DTEND;VALUE=DATE:20250914
DTSTAMP:20260425T032909
CREATED:20250721T205148Z
LAST-MODIFIED:20250910T170009Z
UID:3822-1757635200-1757807999@www.calplongee.fr
SUMMARY:Baptêmes de plongées + créneau de nage
DESCRIPTION:Envie de découvrir les sensations de la plongée ? \nVenez visiter nos installations et réaliser un baptême\, encadré en toute sécurité par nos moniteurs hyper sympas \n2 créneaux sont proposés : \n\nvendredi 12 septembre à 20h30 \nsamedi 13 septembre à 10h30\n\nPiscine de L’Haÿ-les-Roses – 21 rue du Hameau \nPrévoir un maillot et un bonnet de bain\, gel douche et une serviette – ainsi qu’une pièce de 1 euro (ou un jeton de caddie) pour le vestiaire. Nous vous prêterons tout le matériel pour votre baptême.\nInscription par ici https://bit.ly/3JBOB95 \n \n=> Pour nos adhérents (dossier complet et validé dans VP Dive) et dans le cadre des entraînements pour la descente du Loing le 27 septembre\, le bassin sera accessible pur la nage encadrée – vendredi 12 et samedi 13 sur nos créneaux.
URL:https://www.calplongee.fr/event/baptemes-de-plongees-rentree-2025-2026/
END:VEVENT
END:VCALENDAR